BEGIN:VCALENDAR
VERSION:2.0
PRODID:-//Hasparren, commune du Pays Basque - ECPv6.1.3//NONSGML v1.0//EN
CALSCALE:GREGORIAN
METHOD:PUBLISH
X-WR-CALNAME:Hasparren, commune du Pays Basque
X-ORIGINAL-URL:https://hasparren.fr/eu/
X-WR-CALDESC:Events for Hasparren, commune du Pays Basque
REFRESH-INTERVAL;VALUE=DURATION:PT1H
X-Robots-Tag:noindex
X-PUBLISHED-TTL:PT1H
BEGIN:VTIMEZONE
TZID:Europe/Paris
BEGIN:DAYLIGHT
TZOFFSETFROM:+0100
TZOFFSETTO:+0200
TZNAME:CEST
DTSTART:20260329T010000
END:DAYLIGHT
BEGIN:STANDARD
TZOFFSETFROM:+0200
TZOFFSETTO:+0100
TZNAME:CET
DTSTART:20261025T010000
END:STANDARD
END:VTIMEZONE
BEGIN:VEVENT
DTSTART;TZID=Europe/Paris:20260628T090000
DTEND;TZID=Europe/Paris:20260628T130000
DTSTAMP:20260419T222145
CREATED:20251126T112900Z
LAST-MODIFIED:20251127T160116Z
UID:47772-1782637200-1782651600@hasparren.fr
SUMMARY:Arkumaldia
DESCRIPTION:Arkumaldia \n  \n(plus d’information à venir) \nPartager
URL:https://hasparren.fr/eu/evenement/arkumaldia-3/
LOCATION:cinéma Haritz Barne
END:VEVENT
END:VCALENDAR