BEGIN:VCALENDAR
VERSION:2.0
PRODID:-//Hasparren, commune du Pays Basque - ECPv6.1.3//NONSGML v1.0//EN
CALSCALE:GREGORIAN
METHOD:PUBLISH
X-WR-CALNAME:Hasparren, commune du Pays Basque
X-ORIGINAL-URL:https://hasparren.fr/eu/
X-WR-CALDESC:Events for Hasparren, commune du Pays Basque
REFRESH-INTERVAL;VALUE=DURATION:PT1H
X-Robots-Tag:noindex
X-PUBLISHED-TTL:PT1H
BEGIN:VTIMEZONE
TZID:Europe/Paris
BEGIN:DAYLIGHT
TZOFFSETFROM:+0100
TZOFFSETTO:+0200
TZNAME:CEST
DTSTART:20260329T010000
END:DAYLIGHT
BEGIN:STANDARD
TZOFFSETFROM:+0200
TZOFFSETTO:+0100
TZNAME:CET
DTSTART:20261025T010000
END:STANDARD
END:VTIMEZONE
BEGIN:VEVENT
DTSTART;TZID=Europe/Paris:20260424T200000
DTEND;TZID=Europe/Paris:20260424T213000
DTSTAMP:20260421T091845
CREATED:20260304T090258Z
LAST-MODIFIED:20260309T153706Z
UID:48822-1777060800-1777066200@hasparren.fr
SUMMARY:Belharra Trio «Le tour du monde en 80 minutes»
DESCRIPTION:A l’occasion de la troisième édition de Kaperaldi\, venez passer un bon moment avec le concert du trio Belharra à la chapelle du Sacré Coeur – vendredi 24 avril à 20h \nAvec Damaris Alsunard au piano\, Patrick Prunel  au violon et Yves Bouillier au violoncelle. \n  \nLors de cet exceptionnel voyage\, la musique résonnera comme la parole la plus profonde de l’âme d ‘un pays.\nIntimité et flamboyance\, passion et délicatesse\, s’entremêleront au cours de ce concert original plein de charme et de surprises !\nCet itinéraire musical permettra au public d’entendre de la musique classique française\, slave\, scandinave\, russe\, américaine\, viennoise\, irlandaise\, japonaise\, sudaméricaine. \n  \nEntrée 15 € adultes\, gratuit jusqu’à 18 ans. \nBilletterie :\nOffice de tourisme : 05 59 29 62 02\nou Soinubila :  07 61 89 44 34 \n  \n \n  \nPartager
URL:https://hasparren.fr/eu/evenement/belharra-trio-le-tour-du-monde-en-80-minutes/
LOCATION:Chapelle Sacré Coeur
ATTACH;FMTTYPE=image/jpeg:https://hasparren.fr/wp-content/uploads/2026/03/affiche-concert-site-scaled.jpg
END:VEVENT
END:VCALENDAR