BEGIN:VCALENDAR
VERSION:2.0
PRODID:-//Hasparren, commune du Pays Basque - ECPv6.1.3//NONSGML v1.0//EN
CALSCALE:GREGORIAN
METHOD:PUBLISH
X-WR-CALNAME:Hasparren, commune du Pays Basque
X-ORIGINAL-URL:https://hasparren.fr/eu/
X-WR-CALDESC:Events for Hasparren, commune du Pays Basque
REFRESH-INTERVAL;VALUE=DURATION:PT1H
X-Robots-Tag:noindex
X-PUBLISHED-TTL:PT1H
BEGIN:VTIMEZONE
TZID:Europe/Paris
BEGIN:DAYLIGHT
TZOFFSETFROM:+0100
TZOFFSETTO:+0200
TZNAME:CEST
DTSTART:20240331T010000
END:DAYLIGHT
BEGIN:STANDARD
TZOFFSETFROM:+0200
TZOFFSETTO:+0100
TZNAME:CET
DTSTART:20241027T010000
END:STANDARD
END:VTIMEZONE
BEGIN:VEVENT
DTSTART;TZID=Europe/Paris:20240709T213000
DTEND;TZID=Europe/Paris:20240709T230000
DTSTAMP:20260422T103105
CREATED:20231227T151901Z
LAST-MODIFIED:20240625T124421Z
UID:40549-1720560600-1720566000@hasparren.fr
SUMMARY:Concert Elgarrekin
DESCRIPTION:Concert de chants basques à l’église St Jean Baptiste à partir de 21h30 \n  \n \nPartager
URL:https://hasparren.fr/eu/evenement/concert-2/
LOCATION:Église Saint Jean Baptiste\, Hasparren\, France
ATTACH;FMTTYPE=image/jpeg:https://hasparren.fr/wp-content/uploads/2023/12/gabariis-agenda-elgarrekin.jpg
END:VEVENT
END:VCALENDAR