BEGIN:VCALENDAR
VERSION:2.0
PRODID:-//Hasparren, commune du Pays Basque - ECPv6.1.3//NONSGML v1.0//EN
CALSCALE:GREGORIAN
METHOD:PUBLISH
X-WR-CALNAME:Hasparren, commune du Pays Basque
X-ORIGINAL-URL:https://hasparren.fr/eu/
X-WR-CALDESC:Events for Hasparren, commune du Pays Basque
REFRESH-INTERVAL;VALUE=DURATION:PT1H
X-Robots-Tag:noindex
X-PUBLISHED-TTL:PT1H
BEGIN:VTIMEZONE
TZID:Europe/Paris
BEGIN:DAYLIGHT
TZOFFSETFROM:+0100
TZOFFSETTO:+0200
TZNAME:CEST
DTSTART:20250330T010000
END:DAYLIGHT
BEGIN:STANDARD
TZOFFSETFROM:+0200
TZOFFSETTO:+0100
TZNAME:CET
DTSTART:20251026T010000
END:STANDARD
END:VTIMEZONE
BEGIN:VEVENT
DTSTART;TZID=Europe/Paris:20251208T080000
DTEND;TZID=Europe/Paris:20251214T170000
DTSTAMP:20260421T134629
CREATED:20251029T105826Z
LAST-MODIFIED:20251211T094450Z
UID:47219-1765180800-1765731600@hasparren.fr
SUMMARY:Exposition bijoux artisanaux
DESCRIPTION:Exposition bijoux artisanaux du 08 au 14 décembre\, présentée par Elodie Minjou\, en salle pierre Choribit à Hasparren. \n  \n \nPartager
URL:https://hasparren.fr/eu/evenement/exposition-bijoux-artisanaux/
LOCATION:Salle Pierre Choribit
ATTACH;FMTTYPE=image/jpeg:https://hasparren.fr/wp-content/uploads/2025/10/gabariis-agenda-expo-decembre-Minjou.jpg
END:VEVENT
END:VCALENDAR