BEGIN:VCALENDAR
VERSION:2.0
PRODID:-//Hasparren, commune du Pays Basque - ECPv6.1.3//NONSGML v1.0//EN
CALSCALE:GREGORIAN
METHOD:PUBLISH
X-WR-CALNAME:Hasparren, commune du Pays Basque
X-ORIGINAL-URL:https://hasparren.fr/eu/
X-WR-CALDESC:Events for Hasparren, commune du Pays Basque
REFRESH-INTERVAL;VALUE=DURATION:PT1H
X-Robots-Tag:noindex
X-PUBLISHED-TTL:PT1H
BEGIN:VTIMEZONE
TZID:Europe/Paris
BEGIN:DAYLIGHT
TZOFFSETFROM:+0100
TZOFFSETTO:+0200
TZNAME:CEST
DTSTART:20240331T010000
END:DAYLIGHT
BEGIN:STANDARD
TZOFFSETFROM:+0200
TZOFFSETTO:+0100
TZNAME:CET
DTSTART:20241027T010000
END:STANDARD
END:VTIMEZONE
BEGIN:VEVENT
DTSTART;TZID=Europe/Paris:20240502T100000
DTEND;TZID=Europe/Paris:20240601T180000
DTSTAMP:20260422T135446
CREATED:20240507T133848Z
LAST-MODIFIED:20240507T134047Z
UID:41734-1714644000-1717264800@hasparren.fr
SUMMARY:Exposition interactive autour des Jeux Olympiques
DESCRIPTION:Hazparne Zuzi olinpikoari harrera egiteko prestatzen ari delarik heldu den maiatzaren 20an astelehenean\, mediatekak Biblio64 egiturarekin\, proposatzen dizu Joko olinpikoetaz dituzun ezagutzen sakontzea erakusketa interaktibo batekin\, maiatzaren 2tik ekainaren 1era !\n\n\nPanel eta eduki esklusiboek (podcast\, joko\, infografia eta abar…) anekdota hoberenak eta guti ezagutuak diren txapeldunak aurkeztuko dizkizute\, kirola eta Jokoen deskubritzeko\, preseski ezagutzen ez dituzun molde batean !\n\n\nSartzea libre eta urririk.\nPublikoa : HELDU-NERABE nagusiki ; HAURRENTZAT bisita posible da ere\, 8 urtetik goiti.\nBisita egiteko 5 molde\, hauen barne molde 1 tauletarik gabe.\nTauleta banaka edo binaka erabil daiteke.\n\n \n\n \n \nPartager
URL:https://hasparren.fr/eu/evenement/exposition-interactive-autour-des-jeux-olympiques/
LOCATION:Médiathèque
CATEGORIES:Culture
ATTACH;FMTTYPE=image/jpeg:https://hasparren.fr/wp-content/uploads/2024/05/gabariis-agenda-expo-des-jeux.jpg
END:VEVENT
END:VCALENDAR