BEGIN:VCALENDAR
VERSION:2.0
PRODID:-//Hasparren, commune du Pays Basque - ECPv6.1.3//NONSGML v1.0//EN
CALSCALE:GREGORIAN
METHOD:PUBLISH
X-WR-CALNAME:Hasparren, commune du Pays Basque
X-ORIGINAL-URL:https://hasparren.fr/eu/
X-WR-CALDESC:Events for Hasparren, commune du Pays Basque
REFRESH-INTERVAL;VALUE=DURATION:PT1H
X-Robots-Tag:noindex
X-PUBLISHED-TTL:PT1H
BEGIN:VTIMEZONE
TZID:Europe/Paris
BEGIN:DAYLIGHT
TZOFFSETFROM:+0100
TZOFFSETTO:+0200
TZNAME:CEST
DTSTART:20260329T010000
END:DAYLIGHT
BEGIN:STANDARD
TZOFFSETFROM:+0200
TZOFFSETTO:+0100
TZNAME:CET
DTSTART:20261025T010000
END:STANDARD
END:VTIMEZONE
BEGIN:VEVENT
DTSTART;TZID=Europe/Paris:20260517T130000
DTEND;TZID=Europe/Paris:20260517T235900
DTSTAMP:20260421T091646
CREATED:20251126T105658Z
LAST-MODIFIED:20251202T140444Z
UID:47723-1779022800-1779062340@hasparren.fr
SUMMARY:Fêtes de la Peña
DESCRIPTION:Fêtes de la Peña – ça continue \n  \n(plus d’informations à venir) \nPartager
URL:https://hasparren.fr/eu/evenement/fetes-de-la-pena/
LOCATION:peña Idiak
END:VEVENT
END:VCALENDAR