BEGIN:VCALENDAR
VERSION:2.0
PRODID:-//Hasparren, commune du Pays Basque - ECPv6.1.3//NONSGML v1.0//EN
CALSCALE:GREGORIAN
METHOD:PUBLISH
X-WR-CALNAME:Hasparren, commune du Pays Basque
X-ORIGINAL-URL:https://hasparren.fr/eu/
X-WR-CALDESC:Events for Hasparren, commune du Pays Basque
REFRESH-INTERVAL;VALUE=DURATION:PT1H
X-Robots-Tag:noindex
X-PUBLISHED-TTL:PT1H
BEGIN:VTIMEZONE
TZID:Europe/Paris
BEGIN:DAYLIGHT
TZOFFSETFROM:+0100
TZOFFSETTO:+0200
TZNAME:CEST
DTSTART:20250330T010000
END:DAYLIGHT
BEGIN:STANDARD
TZOFFSETFROM:+0200
TZOFFSETTO:+0100
TZNAME:CET
DTSTART:20251026T010000
END:STANDARD
END:VTIMEZONE
BEGIN:VEVENT
DTSTART;TZID=Europe/Paris:20250712T160000
DTEND;TZID=Europe/Paris:20250713T140000
DTSTAMP:20260419T231244
CREATED:20241218T105118Z
LAST-MODIFIED:20241218T105118Z
UID:45689-1752336000-1752415200@hasparren.fr
SUMMARY:Kermesse paroissiale
DESCRIPTION:Kermesse paroissiale \n  \n  \n \nPartager
URL:https://hasparren.fr/eu/evenement/kermesse-3/
LOCATION:Place des Tilleuls
ATTACH;FMTTYPE=image/jpeg:https://hasparren.fr/wp-content/uploads/2024/12/gabariis-agenda-kermesse-paroissiale.jpg
END:VEVENT
END:VCALENDAR