BEGIN:VCALENDAR
VERSION:2.0
PRODID:-//Hasparren, commune du Pays Basque - ECPv6.1.3//NONSGML v1.0//EN
CALSCALE:GREGORIAN
METHOD:PUBLISH
X-WR-CALNAME:Hasparren, commune du Pays Basque
X-ORIGINAL-URL:https://hasparren.fr/eu/
X-WR-CALDESC:Events for Hasparren, commune du Pays Basque
REFRESH-INTERVAL;VALUE=DURATION:PT1H
X-Robots-Tag:noindex
X-PUBLISHED-TTL:PT1H
BEGIN:VTIMEZONE
TZID:Europe/Paris
BEGIN:DAYLIGHT
TZOFFSETFROM:+0100
TZOFFSETTO:+0200
TZNAME:CEST
DTSTART:20240331T010000
END:DAYLIGHT
BEGIN:STANDARD
TZOFFSETFROM:+0200
TZOFFSETTO:+0100
TZNAME:CET
DTSTART:20241027T010000
END:STANDARD
END:VTIMEZONE
BEGIN:VEVENT
DTSTART;TZID=Europe/Paris:20240629T150000
DTEND;TZID=Europe/Paris:20240630T140000
DTSTAMP:20260419T191121
CREATED:20231228T184252Z
LAST-MODIFIED:20240624T102958Z
UID:40997-1719673200-1719756000@hasparren.fr
SUMMARY:Kermesse de la paroisse
DESCRIPTION:Le 29 juin à partir de 15h à 22h \nLe 30 juin à partir de 8h à 14h \nPartager
URL:https://hasparren.fr/eu/evenement/kermesse-de-la-paroisse/
LOCATION:Place des Tilleuls
END:VEVENT
END:VCALENDAR