BEGIN:VCALENDAR
VERSION:2.0
PRODID:-//Hasparren, commune du Pays Basque - ECPv6.1.3//NONSGML v1.0//EN
CALSCALE:GREGORIAN
METHOD:PUBLISH
X-WR-CALNAME:Hasparren, commune du Pays Basque
X-ORIGINAL-URL:https://hasparren.fr/eu/
X-WR-CALDESC:Events for Hasparren, commune du Pays Basque
REFRESH-INTERVAL;VALUE=DURATION:PT1H
X-Robots-Tag:noindex
X-PUBLISHED-TTL:PT1H
BEGIN:VTIMEZONE
TZID:Europe/Paris
BEGIN:DAYLIGHT
TZOFFSETFROM:+0100
TZOFFSETTO:+0200
TZNAME:CEST
DTSTART:20260329T010000
END:DAYLIGHT
BEGIN:STANDARD
TZOFFSETFROM:+0200
TZOFFSETTO:+0100
TZNAME:CET
DTSTART:20261025T010000
END:STANDARD
END:VTIMEZONE
BEGIN:VEVENT
DTSTART;TZID=Europe/Paris:20260126T080000
DTEND;TZID=Europe/Paris:20260126T170000
DTSTAMP:20260422T175856
CREATED:20260126T113216Z
LAST-MODIFIED:20260126T113216Z
UID:48367-1769414400-1769446800@hasparren.fr
SUMMARY:Logement – information et accompagnement
DESCRIPTION:Lundi 2 février 2026\, de 14h à 16h en salle Émile Lavigne (MSP – Centre Elgar)\, le CCAS de la commune propose un temps d’information juridique et sociale autour des questions liées au logement. \n  \nInscriptions obligatoires auprès du CCAS : 05.59.70.29.07 ou ccas@ville-hasparren.fr \n  \n \nPartager
URL:https://hasparren.fr/eu/evenement/logement-information-et-accompagnement/
ATTACH;FMTTYPE=image/jpeg:https://hasparren.fr/wp-content/uploads/2026/01/gabariis-agenda-infos-logement.jpg
END:VEVENT
END:VCALENDAR