BEGIN:VCALENDAR
VERSION:2.0
PRODID:-//Hasparren, commune du Pays Basque - ECPv6.1.3//NONSGML v1.0//EN
CALSCALE:GREGORIAN
METHOD:PUBLISH
X-WR-CALNAME:Hasparren, commune du Pays Basque
X-ORIGINAL-URL:https://hasparren.fr/eu/
X-WR-CALDESC:Events for Hasparren, commune du Pays Basque
REFRESH-INTERVAL;VALUE=DURATION:PT1H
X-Robots-Tag:noindex
X-PUBLISHED-TTL:PT1H
BEGIN:VTIMEZONE
TZID:Europe/Paris
BEGIN:DAYLIGHT
TZOFFSETFROM:+0100
TZOFFSETTO:+0200
TZNAME:CEST
DTSTART:20250330T010000
END:DAYLIGHT
BEGIN:STANDARD
TZOFFSETFROM:+0200
TZOFFSETTO:+0100
TZNAME:CET
DTSTART:20251026T010000
END:STANDARD
END:VTIMEZONE
BEGIN:VEVENT
DTSTART;TZID=Europe/Paris:20251123T113000
DTEND;TZID=Europe/Paris:20251123T123000
DTSTAMP:20260419T220213
CREATED:20251112T154028Z
LAST-MODIFIED:20251112T154028Z
UID:47340-1763897400-1763901000@hasparren.fr
SUMMARY:Mutxiko
DESCRIPTION:Dimanche 23 novembre 11h30 : Mutxiko par les txistulari sur la place des tilleuls dans le cadre de la Ste Cécile. \nPartager
URL:https://hasparren.fr/eu/evenement/mutxiko/
LOCATION:Place des Tilleuls
END:VEVENT
END:VCALENDAR