BEGIN:VCALENDAR
VERSION:2.0
PRODID:-//Hasparren, commune du Pays Basque - ECPv6.1.3//NONSGML v1.0//EN
CALSCALE:GREGORIAN
METHOD:PUBLISH
X-WR-CALNAME:Hasparren, commune du Pays Basque
X-ORIGINAL-URL:https://hasparren.fr/eu/
X-WR-CALDESC:Events for Hasparren, commune du Pays Basque
REFRESH-INTERVAL;VALUE=DURATION:PT1H
X-Robots-Tag:noindex
X-PUBLISHED-TTL:PT1H
BEGIN:VTIMEZONE
TZID:Europe/Paris
BEGIN:DAYLIGHT
TZOFFSETFROM:+0100
TZOFFSETTO:+0200
TZNAME:CEST
DTSTART:20250330T010000
END:DAYLIGHT
BEGIN:STANDARD
TZOFFSETFROM:+0200
TZOFFSETTO:+0100
TZNAME:CET
DTSTART:20251026T010000
END:STANDARD
END:VTIMEZONE
BEGIN:VEVENT
DTSTART;TZID=Europe/Paris:20251212T190000
DTEND;TZID=Europe/Paris:20251212T203000
DTSTAMP:20260421T170105
CREATED:20251103T113518Z
LAST-MODIFIED:20251103T113518Z
UID:47274-1765566000-1765571400@hasparren.fr
SUMMARY:Rencontre avec Renaud de Chaumaray
DESCRIPTION:  \nLe 12 décembre à 19h\, la médiathèque Pierre Espil à Hasparren et la librairie ET’ABAR à Hasparren vous proposeront de rencontrer l’auteur hazpandar Renaud de Chaumaray autour de son tout dernier roman « Quitter la vallée ». \n  \n \n  \n  \nPartager
URL:https://hasparren.fr/eu/evenement/rencontre-avec-renaud-de-chaumaray/
LOCATION:Médiathèque
ATTACH;FMTTYPE=image/jpeg:https://hasparren.fr/wp-content/uploads/2025/11/gabariis-agenda-de-chaumaray.jpg
END:VEVENT
END:VCALENDAR