BEGIN:VCALENDAR
VERSION:2.0
PRODID:-//Hasparren, commune du Pays Basque - ECPv6.1.3//NONSGML v1.0//EN
CALSCALE:GREGORIAN
METHOD:PUBLISH
X-WR-CALNAME:Hasparren, commune du Pays Basque
X-ORIGINAL-URL:https://hasparren.fr/eu/
X-WR-CALDESC:Events for Hasparren, commune du Pays Basque
REFRESH-INTERVAL;VALUE=DURATION:PT1H
X-Robots-Tag:noindex
X-PUBLISHED-TTL:PT1H
BEGIN:VTIMEZONE
TZID:Europe/Paris
BEGIN:DAYLIGHT
TZOFFSETFROM:+0100
TZOFFSETTO:+0200
TZNAME:CEST
DTSTART:20250330T010000
END:DAYLIGHT
BEGIN:STANDARD
TZOFFSETFROM:+0200
TZOFFSETTO:+0100
TZNAME:CET
DTSTART:20251026T010000
END:STANDARD
END:VTIMEZONE
BEGIN:VEVENT
DTSTART;TZID=Europe/Paris:20251223T150000
DTEND;TZID=Europe/Paris:20251223T190000
DTSTAMP:20260422T023956
CREATED:20251106T125217Z
LAST-MODIFIED:20251106T125217Z
UID:48090-1766502000-1766516400@hasparren.fr
SUMMARY:Séances de cinéma offertes aux enfants
DESCRIPTION:Deux séances au cinéma Haritz Barne\, 15:00 et 17:00\, pour découvrir le film d’animation Mission Père Noël.\nLes séances sont offertes aux enfants par l’UCA (Union des Commerçants et Artisans de Hasparren). \nPartager
URL:https://hasparren.fr/eu/evenement/seance-de-cinema-offerte-aux-enfants/
LOCATION:cinema
ATTACH;FMTTYPE=image/png:https://hasparren.fr/wp-content/uploads/2025/11/Capture-decran-2025-11-06-133425.png
END:VEVENT
END:VCALENDAR