BEGIN:VCALENDAR
VERSION:2.0
PRODID:-//Hasparren, commune du Pays Basque - ECPv6.1.3//NONSGML v1.0//EN
CALSCALE:GREGORIAN
METHOD:PUBLISH
X-WR-CALNAME:Hasparren, commune du Pays Basque
X-ORIGINAL-URL:https://hasparren.fr/eu/
X-WR-CALDESC:Events for Hasparren, commune du Pays Basque
REFRESH-INTERVAL;VALUE=DURATION:PT1H
X-Robots-Tag:noindex
X-PUBLISHED-TTL:PT1H
BEGIN:VTIMEZONE
TZID:Europe/Paris
BEGIN:DAYLIGHT
TZOFFSETFROM:+0100
TZOFFSETTO:+0200
TZNAME:CEST
DTSTART:20240331T010000
END:DAYLIGHT
BEGIN:STANDARD
TZOFFSETFROM:+0200
TZOFFSETTO:+0100
TZNAME:CET
DTSTART:20241027T010000
END:STANDARD
END:VTIMEZONE
BEGIN:VEVENT
DTSTART;TZID=Europe/Paris:20240816T190000
DTEND;TZID=Europe/Paris:20240816T233000
DTSTAMP:20260421T134711
CREATED:20231227T153925Z
LAST-MODIFIED:20240805T131143Z
UID:40484-1723834800-1723851000@hasparren.fr
SUMMARY:Soirée danses basques HEGALKA
DESCRIPTION:A partir de 19h00. Concours de danse et spectacle \nPrésentation UMA\, nouvelle création de HEGALKA CONCERT \ngroupe KLIKE \n\nPour la première fois\, Hegalka organise Dantza Gaua !\nAu programme :\n19h30 : Concours de danse (infos plus bas)\n20h30 : @lasflamencasdecatalina  Uma\, la nouvelle création d’Hegalka \n22h : @klike.taldea en concert !\n\n\n \nConcours de danse\nEnvie de défier d’autres groupes et d’autres danseurs ? Venez participer à notre concours de danse ! Danses basques traditionnelles ou créations\, à vous d’épater le public !\nLes conditions :\nMinimum 6 danseurs\, appartenant à un groupe de danse basque ou pas !\nDanse basque traditionnelle ou création\n200€ a gagner ! \nInscription obligatoire via le formulaire dans notre bio : https://docs.google.com/…/1FAIpQLSeb2IVePI…/viewform\nPatronage d’Hasparren\, à côté du cinéma Haritz Barne\n\n\nViens danser avec nous !\n\n\nPartager
URL:https://hasparren.fr/eu/evenement/soiree-danses-basques-hegalka/
LOCATION:fronton Haritz Barne
ATTACH;FMTTYPE=image/png:https://hasparren.fr/wp-content/uploads/2023/12/Capture-decran-2024-08-05-100946.png
END:VEVENT
END:VCALENDAR