BEGIN:VCALENDAR
VERSION:2.0
PRODID:-//Hasparren, commune du Pays Basque - ECPv6.1.3//NONSGML v1.0//EN
CALSCALE:GREGORIAN
METHOD:PUBLISH
X-WR-CALNAME:Hasparren, commune du Pays Basque
X-ORIGINAL-URL:https://hasparren.fr/eu/
X-WR-CALDESC:Events for Hasparren, commune du Pays Basque
REFRESH-INTERVAL;VALUE=DURATION:PT1H
X-Robots-Tag:noindex
X-PUBLISHED-TTL:PT1H
BEGIN:VTIMEZONE
TZID:Europe/Paris
BEGIN:DAYLIGHT
TZOFFSETFROM:+0100
TZOFFSETTO:+0200
TZNAME:CEST
DTSTART:20250330T010000
END:DAYLIGHT
BEGIN:STANDARD
TZOFFSETFROM:+0200
TZOFFSETTO:+0100
TZNAME:CET
DTSTART:20251026T010000
END:STANDARD
END:VTIMEZONE
BEGIN:VEVENT
DTSTART;TZID=Europe/Paris:20251122T100000
DTEND;TZID=Europe/Paris:20251122T120000
DTSTAMP:20260419T201509
CREATED:20251103T112859Z
LAST-MODIFIED:20251103T112859Z
UID:47267-1763805600-1763812800@hasparren.fr
SUMMARY:Spectacle participatif Plisti Plasta
DESCRIPTION:Samedi 22 novembre à 10h\, à la médiathèque Pierre Espil de Hasparren\, la compagnie Alabena vous propose son bal-concert participatif Plisti Plasta\, dans le cadre de Euskararen Urtaroa. Enfants et parents seront invités à chanter\, danser et s’émerveiller autour du thème de l’eau\, symbole des émotions et de la transformation. Un moment joyeux et musical à partager en famille ! \n\nPublic familial (enfants 2–7 ans).\nEn euskara\, mais accessible à tous.\nDurée : 45 minutes environ. \n\nSur réservation obligatoire (places limitées) en ligne ou auprès des bibliothécaires. \n⇒Réservations \n  \n \nPartager
URL:https://hasparren.fr/eu/evenement/spectacle-participatif-plisti-plasta/
LOCATION:Médiathèque
ATTACH;FMTTYPE=image/jpeg:https://hasparren.fr/wp-content/uploads/2025/11/gabariis-agenda-plisti-plasta.jpg
END:VEVENT
END:VCALENDAR