BEGIN:VCALENDAR
VERSION:2.0
PRODID:-//Hasparren, commune du Pays Basque - ECPv6.1.3//NONSGML v1.0//EN
CALSCALE:GREGORIAN
METHOD:PUBLISH
X-WR-CALNAME:Hasparren, commune du Pays Basque
X-ORIGINAL-URL:https://hasparren.fr/eu/
X-WR-CALDESC:Events for Hasparren, commune du Pays Basque
REFRESH-INTERVAL;VALUE=DURATION:PT1H
X-Robots-Tag:noindex
X-PUBLISHED-TTL:PT1H
BEGIN:VTIMEZONE
TZID:Europe/Paris
BEGIN:DAYLIGHT
TZOFFSETFROM:+0100
TZOFFSETTO:+0200
TZNAME:CEST
DTSTART:20240331T010000
END:DAYLIGHT
BEGIN:STANDARD
TZOFFSETFROM:+0200
TZOFFSETTO:+0100
TZNAME:CET
DTSTART:20241027T010000
END:STANDARD
END:VTIMEZONE
BEGIN:VEVENT
DTSTART;TZID=Europe/Paris:20240427T130000
DTEND;TZID=Europe/Paris:20240427T190000
DTSTAMP:20260422T152602
CREATED:20231127T120224Z
LAST-MODIFIED:20240417T134720Z
UID:40963-1714222800-1714244400@hasparren.fr
SUMMARY:Tour auto - rallye auto historique
DESCRIPTION:De 13h à 19 h  : Passage du Tour Auto sur Hasparren sur la Place Harana avant de se rendre sur une épreuve chronométrée du côté de Isturits. \n  \n \nPartager
URL:https://hasparren.fr/eu/evenement/tour-auto-rallye-auto-historique/
LOCATION:Place Harana
ATTACH;FMTTYPE=image/jpeg:https://hasparren.fr/wp-content/uploads/2023/11/gabariis-agenda-tour-rally.jpg
END:VEVENT
END:VCALENDAR