BEGIN:VCALENDAR
VERSION:2.0
PRODID:-//Hasparren, commune du Pays Basque - ECPv6.1.3//NONSGML v1.0//EN
CALSCALE:GREGORIAN
METHOD:PUBLISH
X-WR-CALNAME:Hasparren, commune du Pays Basque
X-ORIGINAL-URL:https://hasparren.fr/eu/
X-WR-CALDESC:Events for Hasparren, commune du Pays Basque
REFRESH-INTERVAL;VALUE=DURATION:PT1H
X-Robots-Tag:noindex
X-PUBLISHED-TTL:PT1H
BEGIN:VTIMEZONE
TZID:Europe/Paris
BEGIN:DAYLIGHT
TZOFFSETFROM:+0100
TZOFFSETTO:+0200
TZNAME:CEST
DTSTART:20250330T010000
END:DAYLIGHT
BEGIN:STANDARD
TZOFFSETFROM:+0200
TZOFFSETTO:+0100
TZNAME:CET
DTSTART:20251026T010000
END:STANDARD
END:VTIMEZONE
BEGIN:VEVENT
DTSTART;TZID=Europe/Paris:20250811T100000
DTEND;TZID=Europe/Paris:20250811T110000
DTSTAMP:20260419T232248
CREATED:20250605T145037Z
LAST-MODIFIED:20250709T124605Z
UID:45521-1754906400-1754910000@hasparren.fr
SUMMARY:Visite guidée de la chapelle du Sacré-Coeur
DESCRIPTION:Visite guidée de la chapelle du Sacré-Coeur\, classée monument historique avec ses peintures\, mosaïques\, vitraux\, décor intérieur de style Art déco.  \nTous les lundis\, mercredis à 10:00 \nTous les vendredis à 15h00 \n5€/adulte\, gratuit jusqu’à 14 ans.  \nRéservation Office de Tourisme 05.59.29.62.02  \n⇒Vers les Réservations  \nPartager
URL:https://hasparren.fr/eu/evenement/visite-guidee-de-la-chapelle-du-sacre-coeur-49/
LOCATION:Chapelle Sacré Coeur
ATTACH;FMTTYPE=image/jpeg:https://hasparren.fr/wp-content/uploads/2021/01/chapelle-Sacre-Coeur-4-scaled-e1611930308375.jpg
END:VEVENT
END:VCALENDAR