BEGIN:VCALENDAR
VERSION:2.0
PRODID:-//Hasparren, Hazparne, Pays Basque - ECPv6.1.3//NONSGML v1.0//EN
CALSCALE:GREGORIAN
METHOD:PUBLISH
X-WR-CALNAME:Hasparren, Hazparne, Pays Basque
X-ORIGINAL-URL:https://hasparren.fr
X-WR-CALDESC:Évènements pour Hasparren, Hazparne, Pays Basque
REFRESH-INTERVAL;VALUE=DURATION:PT1H
X-Robots-Tag:noindex
X-PUBLISHED-TTL:PT1H
BEGIN:VTIMEZONE
TZID:Europe/Paris
BEGIN:DAYLIGHT
TZOFFSETFROM:+0100
TZOFFSETTO:+0200
TZNAME:CEST
DTSTART:20250330T010000
END:DAYLIGHT
BEGIN:STANDARD
TZOFFSETFROM:+0200
TZOFFSETTO:+0100
TZNAME:CET
DTSTART:20251026T010000
END:STANDARD
END:VTIMEZONE
BEGIN:VEVENT
DTSTART;TZID=Europe/Paris:20250726T000000
DTEND;TZID=Europe/Paris:20250726T000000
DTSTAMP:20260422T175718
CREATED:20241218T105456Z
LAST-MODIFIED:20250605T152938Z
UID:43805-1753488000-1753488000@hasparren.fr
SUMMARY:20 ans du groupe de chant de la Peña Idiak
DESCRIPTION:20 ans du groupe de chant de la Peña Idiak \nPartager
URL:https://hasparren.fr/evenement/20-ans-du-groupe-de-chant-de-la-pena-idiak/
LOCATION:Centre ville\, Hasparren
END:VEVENT
END:VCALENDAR