BEGIN:VCALENDAR
VERSION:2.0
PRODID:-//Hasparren, Hazparne, Pays Basque - ECPv6.1.3//NONSGML v1.0//EN
CALSCALE:GREGORIAN
METHOD:PUBLISH
X-WR-CALNAME:Hasparren, Hazparne, Pays Basque
X-ORIGINAL-URL:https://hasparren.fr
X-WR-CALDESC:Évènements pour Hasparren, Hazparne, Pays Basque
REFRESH-INTERVAL;VALUE=DURATION:PT1H
X-Robots-Tag:noindex
X-PUBLISHED-TTL:PT1H
BEGIN:VTIMEZONE

END:VTIMEZONE
BEGIN:VEVENT
DTSTART;TZID=Europe/Paris:20260423T010400
DTEND;TZID=Europe/Paris:20260423T010400
DTSTAMP:20260423T010400
CREATED:20250317T095629Z
LAST-MODIFIED:20250317T095629Z
UID:44524-0-0@hasparren.fr
SUMMARY:Beti plüz gaualdia
DESCRIPTION:Le 29 mars à partir de 20h00 au Gaztetxe d’Hasparren : concert des groupes Xiberoots – Kalume – Pangea Pop. \n  \nVenez nombreux !  \n  \n  \n \nPartager
URL:https://hasparren.fr/evenement/beti-pluz-gaualdia/
LOCATION:Gaztetxe
ATTACH;FMTTYPE=image/jpeg:https://hasparren.fr/wp-content/uploads/2025/03/gabariis-agenda-xiberoots.jpg
END:VEVENT
END:VCALENDAR