BEGIN:VCALENDAR
VERSION:2.0
PRODID:-//Hasparren, Hazparne, Pays Basque - ECPv6.1.3//NONSGML v1.0//EN
CALSCALE:GREGORIAN
METHOD:PUBLISH
X-WR-CALNAME:Hasparren, Hazparne, Pays Basque
X-ORIGINAL-URL:https://hasparren.fr
X-WR-CALDESC:Évènements pour Hasparren, Hazparne, Pays Basque
REFRESH-INTERVAL;VALUE=DURATION:PT1H
X-Robots-Tag:noindex
X-PUBLISHED-TTL:PT1H
BEGIN:VTIMEZONE
TZID:Europe/Paris
BEGIN:DAYLIGHT
TZOFFSETFROM:+0100
TZOFFSETTO:+0200
TZNAME:CEST
DTSTART:20240331T010000
END:DAYLIGHT
BEGIN:STANDARD
TZOFFSETFROM:+0200
TZOFFSETTO:+0100
TZNAME:CET
DTSTART:20241027T010000
END:STANDARD
END:VTIMEZONE
BEGIN:VEVENT
DTSTART;TZID=Europe/Paris:20240828T091500
DTEND;TZID=Europe/Paris:20240828T173000
DTSTAMP:20260419T174948
CREATED:20240812T095248Z
LAST-MODIFIED:20240812T095248Z
UID:42814-1724836500-1724866200@hasparren.fr
SUMMARY:Braderie
DESCRIPTION:Le secours Catholique organise sa braderie le mercredi 28 août de 9h15 à 17h30. Rendez-vous au 19 rue Dominique Fontan pour la brocante et au 13 rue Francis Jammes pour la boutique solidaire. \n  \n \nPartager
URL:https://hasparren.fr/evenement/braderie-2/
ATTACH;FMTTYPE=image/jpeg:https://hasparren.fr/wp-content/uploads/2024/08/gabariis-agenda-braderie.jpg
END:VEVENT
END:VCALENDAR