BEGIN:VCALENDAR
VERSION:2.0
PRODID:-//Hasparren, Hazparne, Pays Basque - ECPv6.1.3//NONSGML v1.0//EN
CALSCALE:GREGORIAN
METHOD:PUBLISH
X-WR-CALNAME:Hasparren, Hazparne, Pays Basque
X-ORIGINAL-URL:https://hasparren.fr
X-WR-CALDESC:Évènements pour Hasparren, Hazparne, Pays Basque
REFRESH-INTERVAL;VALUE=DURATION:PT1H
X-Robots-Tag:noindex
X-PUBLISHED-TTL:PT1H
BEGIN:VTIMEZONE
TZID:Europe/Paris
BEGIN:DAYLIGHT
TZOFFSETFROM:+0100
TZOFFSETTO:+0200
TZNAME:CEST
DTSTART:20250330T010000
END:DAYLIGHT
BEGIN:STANDARD
TZOFFSETFROM:+0200
TZOFFSETTO:+0100
TZNAME:CET
DTSTART:20251026T010000
END:STANDARD
END:VTIMEZONE
BEGIN:VEVENT
DTSTART;VALUE=DATE:20251128
DTEND;VALUE=DATE:20251130
DTSTAMP:20260425T135914
CREATED:20251105T151437Z
LAST-MODIFIED:20251105T151437Z
UID:47277-1764288000-1764460799@hasparren.fr
SUMMARY:Collecte alimentaire
DESCRIPTION:Les 28 et 29 novembre\, la grande collecte nationale de la Banque alimentaire du Pays Basque aura lieu auprès des supermarchés d’Hasparren. \n  \n  \n \nPartager
URL:https://hasparren.fr/evenement/collecte-alimentaire/
LOCATION:Supermachés d’Hasparren
ATTACH;FMTTYPE=image/jpeg:https://hasparren.fr/wp-content/uploads/2025/11/gabariis-agenda-banque-alim.jpg
END:VEVENT
END:VCALENDAR