BEGIN:VCALENDAR
VERSION:2.0
PRODID:-//Hasparren, Hazparne, Pays Basque - ECPv6.1.3//NONSGML v1.0//EN
CALSCALE:GREGORIAN
METHOD:PUBLISH
X-WR-CALNAME:Hasparren, Hazparne, Pays Basque
X-ORIGINAL-URL:https://hasparren.fr
X-WR-CALDESC:Évènements pour Hasparren, Hazparne, Pays Basque
REFRESH-INTERVAL;VALUE=DURATION:PT1H
X-Robots-Tag:noindex
X-PUBLISHED-TTL:PT1H
BEGIN:VTIMEZONE
TZID:Europe/Paris
BEGIN:DAYLIGHT
TZOFFSETFROM:+0100
TZOFFSETTO:+0200
TZNAME:CEST
DTSTART:20250330T010000
END:DAYLIGHT
BEGIN:STANDARD
TZOFFSETFROM:+0200
TZOFFSETTO:+0100
TZNAME:CET
DTSTART:20251026T010000
END:STANDARD
END:VTIMEZONE
BEGIN:VEVENT
DTSTART;TZID=Europe/Paris:20250731T203000
DTEND;TZID=Europe/Paris:20250731T223000
DTSTAMP:20260422T032321
CREATED:20241218T105725Z
LAST-MODIFIED:20250707T093751Z
UID:43810-1753993800-1754001000@hasparren.fr
SUMMARY:Concert Mendixola
DESCRIPTION:Jeudi 31 juillet à partir de 20h45\, le choeur Mendixola invite le groupe Aventi depuis Dax pour un concert exceptionnel à la chapelle du Sacré-Coeur à Hasparren. \n  \n  \n \nPartager
URL:https://hasparren.fr/evenement/concert-8/
LOCATION:Chapelle Sacré Coeur
ATTACH;FMTTYPE=image/jpeg:https://hasparren.fr/wp-content/uploads/2024/12/gabariis-agenda-concert-31juillet.jpg
END:VEVENT
END:VCALENDAR