BEGIN:VCALENDAR
VERSION:2.0
PRODID:-//Hasparren, Hazparne, Pays Basque - ECPv6.1.3//NONSGML v1.0//EN
CALSCALE:GREGORIAN
METHOD:PUBLISH
X-WR-CALNAME:Hasparren, Hazparne, Pays Basque
X-ORIGINAL-URL:https://hasparren.fr
X-WR-CALDESC:Évènements pour Hasparren, Hazparne, Pays Basque
REFRESH-INTERVAL;VALUE=DURATION:PT1H
X-Robots-Tag:noindex
X-PUBLISHED-TTL:PT1H
BEGIN:VTIMEZONE
TZID:Europe/Paris
BEGIN:DAYLIGHT
TZOFFSETFROM:+0100
TZOFFSETTO:+0200
TZNAME:CEST
DTSTART:20250330T010000
END:DAYLIGHT
BEGIN:STANDARD
TZOFFSETFROM:+0200
TZOFFSETTO:+0100
TZNAME:CET
DTSTART:20251026T010000
END:STANDARD
END:VTIMEZONE
BEGIN:VEVENT
DTSTART;TZID=Europe/Paris:20250808T210000
DTEND;TZID=Europe/Paris:20250808T230000
DTSTAMP:20260421T134326
CREATED:20241219T150333Z
LAST-MODIFIED:20250709T103016Z
UID:43827-1754686800-1754694000@hasparren.fr
SUMMARY:Concert Elgarrekin
DESCRIPTION:Concert Elgarrekin \n  \n \nPartager
URL:https://hasparren.fr/evenement/concert-9/
LOCATION:Église Saint Jean Baptiste\, Hasparren\, France
ATTACH;FMTTYPE=image/jpeg:https://hasparren.fr/wp-content/uploads/2024/12/elgarrekin-8-aout.jpg
END:VEVENT
END:VCALENDAR