BEGIN:VCALENDAR
VERSION:2.0
PRODID:-//Hasparren, Hazparne, Pays Basque - ECPv6.1.3//NONSGML v1.0//EN
CALSCALE:GREGORIAN
METHOD:PUBLISH
X-WR-CALNAME:Hasparren, Hazparne, Pays Basque
X-ORIGINAL-URL:https://hasparren.fr
X-WR-CALDESC:Évènements pour Hasparren, Hazparne, Pays Basque
REFRESH-INTERVAL;VALUE=DURATION:PT1H
X-Robots-Tag:noindex
X-PUBLISHED-TTL:PT1H
BEGIN:VTIMEZONE
TZID:Europe/Paris
BEGIN:DAYLIGHT
TZOFFSETFROM:+0100
TZOFFSETTO:+0200
TZNAME:CEST
DTSTART:20260329T010000
END:DAYLIGHT
BEGIN:STANDARD
TZOFFSETFROM:+0200
TZOFFSETTO:+0100
TZNAME:CET
DTSTART:20261025T010000
END:STANDARD
END:VTIMEZONE
BEGIN:VEVENT
DTSTART;TZID=Europe/Paris:20260117T183000
DTEND;TZID=Europe/Paris:20260117T200000
DTSTAMP:20260422T074414
CREATED:20251124T105540Z
LAST-MODIFIED:20251229T162927Z
UID:47587-1768674600-1768680000@hasparren.fr
SUMMARY:Concert Batterie Fanfare
DESCRIPTION:Samedi 17 janvier à partir de 18h30 (Eglise d’Urcuray)\, concert gratuit des batteries fanfares HAITZMENDI et UR BEGI. \n \nPartager
URL:https://hasparren.fr/evenement/concert-batterie-fanfare/
LOCATION:Église Urcuray
ATTACH;FMTTYPE=image/jpeg:https://hasparren.fr/wp-content/uploads/2025/11/DCB0E2E1-7A60-4290-AABA-BC0FE21D36B6.jpeg
END:VEVENT
END:VCALENDAR