BEGIN:VCALENDAR
VERSION:2.0
PRODID:-//Hasparren, Hazparne, Pays Basque - ECPv6.1.3//NONSGML v1.0//EN
CALSCALE:GREGORIAN
METHOD:PUBLISH
X-WR-CALNAME:Hasparren, Hazparne, Pays Basque
X-ORIGINAL-URL:https://hasparren.fr
X-WR-CALDESC:Évènements pour Hasparren, Hazparne, Pays Basque
REFRESH-INTERVAL;VALUE=DURATION:PT1H
X-Robots-Tag:noindex
X-PUBLISHED-TTL:PT1H
BEGIN:VTIMEZONE
TZID:Europe/Paris
BEGIN:DAYLIGHT
TZOFFSETFROM:+0100
TZOFFSETTO:+0200
TZNAME:CEST
DTSTART:20240331T010000
END:DAYLIGHT
BEGIN:STANDARD
TZOFFSETFROM:+0200
TZOFFSETTO:+0100
TZNAME:CET
DTSTART:20241027T010000
END:STANDARD
END:VTIMEZONE
BEGIN:VEVENT
DTSTART;TZID=Europe/Paris:20240524T200000
DTEND;TZID=Europe/Paris:20240524T220000
DTSTAMP:20260421T153003
CREATED:20240521T144639Z
LAST-MODIFIED:20240521T144639Z
UID:41815-1716580800-1716588000@hasparren.fr
SUMMARY:CONCERT « MAGNIFICAT »
DESCRIPTION:Musique et voix pour célébrer les 10 ans du Chœur Ascèse\nL’Orchestre du Pays Basque – Iparraldeko Orkestra célèbre le dixième anniversaire du Chœur Ascèse à travers un concert de musique sacrée de l’époque baroque et présente l’une des œuvres sacrées majeures de J.S. Bach\, son Magnificat. Une vingtaine de chanteurs du chœur rejoindront les musiciennes et les musiciens d’Iparraldeko Orkestra pour partager ce concert à la riche programmation :  le vendredi 24 mai 2024 à l’Église SaintJean-Baptiste d’Hasparren à 20h (et le dimanche 26\nmai 2024 à l’Église Sainte-Marie d’Anglet). \nDepuis 2014\, Le Chœur Ascèse réjouit le public avec des programmes variés et originaux. De 8 à 24 chanteurs selon les répertoires\, a cappella avec piano ou orchestre\, le Chœur enchaîne les succès lors de ses concerts en France ou en Espagne. C’est pour célébrer le dixième anniversaire de ce chœur incontournable que l’Orchestre du Pays Basque a concocté en lien avec le chef Philippe Mendes\, un programme dédié aux œuvres de Johann Sebastian Bach et Georg Friedrich Haendel.\nComposé à Leipzig en 1723\, puis révisé en 1733\, le Magnificat est la plus populaire des œuvres vocales de Bach et l’une des rares de son abondante production à être écrite sur un texte en latin. Cantique entonné par Marie à la louange de Dieu après l’annonce par l’ange Gabriel de sa maternité prochaine\, le texte du Magnificat dicte à Bach une ample partition constituée de chœurs jubilatoires aux vocalises triomphantes\, de pages solistes au caractère intime\, d’airs vigoureux chantés par les voix d’homme …. \n  \nRéservation et billetterie\n\nVendredi 24 mai 2024 20h > Église Saint-Jean-Baptiste à Hasparren : https://www.ospb.eus/ \n  \n \nPartager
URL:https://hasparren.fr/evenement/concert-magnificat/
LOCATION:Église Saint Jean Baptiste\, Hasparren\, France
ATTACH;FMTTYPE=image/jpeg:https://hasparren.fr/wp-content/uploads/2024/05/gabariis-agenda-concert.jpg
END:VEVENT
END:VCALENDAR