BEGIN:VCALENDAR
VERSION:2.0
PRODID:-//Hasparren, Hazparne, Pays Basque - ECPv6.1.3//NONSGML v1.0//EN
CALSCALE:GREGORIAN
METHOD:PUBLISH
X-WR-CALNAME:Hasparren, Hazparne, Pays Basque
X-ORIGINAL-URL:https://hasparren.fr
X-WR-CALDESC:Évènements pour Hasparren, Hazparne, Pays Basque
REFRESH-INTERVAL;VALUE=DURATION:PT1H
X-Robots-Tag:noindex
X-PUBLISHED-TTL:PT1H
BEGIN:VTIMEZONE
TZID:Europe/Paris
BEGIN:DAYLIGHT
TZOFFSETFROM:+0100
TZOFFSETTO:+0200
TZNAME:CEST
DTSTART:20240331T010000
END:DAYLIGHT
BEGIN:STANDARD
TZOFFSETFROM:+0200
TZOFFSETTO:+0100
TZNAME:CET
DTSTART:20241027T010000
END:STANDARD
END:VTIMEZONE
BEGIN:VEVENT
DTSTART;TZID=Europe/Paris:20240512T083000
DTEND;TZID=Europe/Paris:20240512T210000
DTSTAMP:20260422T104322
CREATED:20240417T104355Z
LAST-MODIFIED:20240417T104355Z
UID:41632-1715502600-1715547600@hasparren.fr
SUMMARY:Concours de Ball trap
DESCRIPTION:de 8h30 à 21h à l’Enseigne \nPartager
URL:https://hasparren.fr/evenement/concours-de-ball-trap-3/
LOCATION:l’Enseigne
END:VEVENT
END:VCALENDAR