BEGIN:VCALENDAR
VERSION:2.0
PRODID:-//Hasparren, Hazparne, Pays Basque - ECPv6.1.3//NONSGML v1.0//EN
CALSCALE:GREGORIAN
METHOD:PUBLISH
X-WR-CALNAME:Hasparren, Hazparne, Pays Basque
X-ORIGINAL-URL:https://hasparren.fr
X-WR-CALDESC:Évènements pour Hasparren, Hazparne, Pays Basque
REFRESH-INTERVAL;VALUE=DURATION:PT1H
X-Robots-Tag:noindex
X-PUBLISHED-TTL:PT1H
BEGIN:VTIMEZONE
TZID:Europe/Paris
BEGIN:DAYLIGHT
TZOFFSETFROM:+0100
TZOFFSETTO:+0200
TZNAME:CEST
DTSTART:20240331T010000
END:DAYLIGHT
BEGIN:STANDARD
TZOFFSETFROM:+0200
TZOFFSETTO:+0100
TZNAME:CET
DTSTART:20241027T010000
END:STANDARD
END:VTIMEZONE
BEGIN:VEVENT
DTSTART;TZID=Europe/Paris:20240817T080000
DTEND;TZID=Europe/Paris:20240817T170000
DTSTAMP:20260421T104452
CREATED:20240527T093403Z
LAST-MODIFIED:20240527T101049Z
UID:41885-1723881600-1723914000@hasparren.fr
SUMMARY:Concours de chevaux de trait niveau 1 et PEJET
DESCRIPTION:Rendez-vous samedi 17 août aux arènes municipales pour le concours de chevaux de trait Nv1 ainsi qu’un Parcours d’Excellence du Jeune Equidé de Travail (Pejet) \nPartager
URL:https://hasparren.fr/evenement/concours-de-chevaux-de-trait-niveau-1-et-pejet/
LOCATION:Arènes municipales
ATTACH;FMTTYPE=image/jpeg:https://hasparren.fr/wp-content/uploads/2024/05/gabariis-agenda-concours-chevaux.jpg
END:VEVENT
END:VCALENDAR