BEGIN:VCALENDAR
VERSION:2.0
PRODID:-//Hasparren, Hazparne, Pays Basque - ECPv6.1.3//NONSGML v1.0//EN
CALSCALE:GREGORIAN
METHOD:PUBLISH
X-WR-CALNAME:Hasparren, Hazparne, Pays Basque
X-ORIGINAL-URL:https://hasparren.fr
X-WR-CALDESC:Évènements pour Hasparren, Hazparne, Pays Basque
REFRESH-INTERVAL;VALUE=DURATION:PT1H
X-Robots-Tag:noindex
X-PUBLISHED-TTL:PT1H
BEGIN:VTIMEZONE
TZID:Europe/Paris
BEGIN:DAYLIGHT
TZOFFSETFROM:+0100
TZOFFSETTO:+0200
TZNAME:CEST
DTSTART:20250330T010000
END:DAYLIGHT
BEGIN:STANDARD
TZOFFSETFROM:+0200
TZOFFSETTO:+0100
TZNAME:CET
DTSTART:20251026T010000
END:STANDARD
END:VTIMEZONE
BEGIN:VEVENT
DTSTART;TZID=Europe/Paris:20251207T083000
DTEND;TZID=Europe/Paris:20251207T130000
DTSTAMP:20260421T134805
CREATED:20251112T154702Z
LAST-MODIFIED:20251112T154702Z
UID:47341-1765096200-1765112400@hasparren.fr
SUMMARY:Cross du Téléthon & Kid Cross
DESCRIPTION:Cross du Téléthon et kid cross ce dimanche 7 décembre à partir de 9h30.  ( accueil des coureurs à partir de 8h30) \n  \n \nPartager
URL:https://hasparren.fr/evenement/cross-du-telethon-kid-cross/
LOCATION:Lycée Armand David
ATTACH;FMTTYPE=image/jpeg:https://hasparren.fr/wp-content/uploads/2025/11/gabariis-agenda-cross-2025.jpg
END:VEVENT
END:VCALENDAR