BEGIN:VCALENDAR
VERSION:2.0
PRODID:-//Hasparren, Hazparne, Pays Basque - ECPv6.1.3//NONSGML v1.0//EN
CALSCALE:GREGORIAN
METHOD:PUBLISH
X-WR-CALNAME:Hasparren, Hazparne, Pays Basque
X-ORIGINAL-URL:https://hasparren.fr
X-WR-CALDESC:Évènements pour Hasparren, Hazparne, Pays Basque
REFRESH-INTERVAL;VALUE=DURATION:PT1H
X-Robots-Tag:noindex
X-PUBLISHED-TTL:PT1H
BEGIN:VTIMEZONE
TZID:Europe/Paris
BEGIN:DAYLIGHT
TZOFFSETFROM:+0100
TZOFFSETTO:+0200
TZNAME:CEST
DTSTART:20240331T010000
END:DAYLIGHT
BEGIN:STANDARD
TZOFFSETFROM:+0200
TZOFFSETTO:+0100
TZNAME:CET
DTSTART:20241027T010000
END:STANDARD
END:VTIMEZONE
BEGIN:VEVENT
DTSTART;TZID=Europe/Paris:20240429T100000
DTEND;TZID=Europe/Paris:20240505T180000
DTSTAMP:20260422T214616
CREATED:20240412T151241Z
LAST-MODIFIED:20240412T151241Z
UID:41584-1714384800-1714932000@hasparren.fr
SUMMARY:Exposition : Au coeur de l'Ukraine
DESCRIPTION:Du lundi 29 avril au dimanche 5 mai\, plongez au coeur de l’Ukraine avec l’exposition en salle Choribit de Vlada Shagun. \nMatin : de 10h à 12h\nAprès-midi : 14h à 18h \n  \n \nPartager
URL:https://hasparren.fr/evenement/exposition-au-coeur-de-lukraine/
LOCATION:Salle Pierre Choribit
ATTACH;FMTTYPE=image/jpeg:https://hasparren.fr/wp-content/uploads/2024/04/gabariis-agenda-ukraine.jpg
END:VEVENT
END:VCALENDAR