BEGIN:VCALENDAR
VERSION:2.0
PRODID:-//Hasparren, Hazparne, Pays Basque - ECPv6.1.3//NONSGML v1.0//EN
CALSCALE:GREGORIAN
METHOD:PUBLISH
X-WR-CALNAME:Hasparren, Hazparne, Pays Basque
X-ORIGINAL-URL:https://hasparren.fr
X-WR-CALDESC:Évènements pour Hasparren, Hazparne, Pays Basque
REFRESH-INTERVAL;VALUE=DURATION:PT1H
X-Robots-Tag:noindex
X-PUBLISHED-TTL:PT1H
BEGIN:VTIMEZONE
TZID:Europe/Paris
BEGIN:DAYLIGHT
TZOFFSETFROM:+0100
TZOFFSETTO:+0200
TZNAME:CEST
DTSTART:20240331T010000
END:DAYLIGHT
BEGIN:STANDARD
TZOFFSETFROM:+0200
TZOFFSETTO:+0100
TZNAME:CET
DTSTART:20241027T010000
END:STANDARD
END:VTIMEZONE
BEGIN:VEVENT
DTSTART;TZID=Europe/Paris:20240510T193000
DTEND;TZID=Europe/Paris:20240510T233000
DTSTAMP:20260420T102513
CREATED:20240417T104016Z
LAST-MODIFIED:20240417T104016Z
UID:41629-1715369400-1715383800@hasparren.fr
SUMMARY:Fête d'Urcuray & Paxkoenea
DESCRIPTION:Repas des villageois\, ce vendredi 10 mai à partir de 19h30\, avec méchoui et apéritif offert par le comité des fêtes. \nMenu à 20€ – Réservations au 07.71.11.34.34 \nPartager
URL:https://hasparren.fr/evenement/fete-durcuray-paxkoenea/
LOCATION:trinquet de Paxkoenea
END:VEVENT
END:VCALENDAR