BEGIN:VCALENDAR
VERSION:2.0
PRODID:-//Hasparren, Hazparne, Pays Basque - ECPv6.1.3//NONSGML v1.0//EN
CALSCALE:GREGORIAN
METHOD:PUBLISH
X-WR-CALNAME:Hasparren, Hazparne, Pays Basque
X-ORIGINAL-URL:https://hasparren.fr
X-WR-CALDESC:Évènements pour Hasparren, Hazparne, Pays Basque
REFRESH-INTERVAL;VALUE=DURATION:PT1H
X-Robots-Tag:noindex
X-PUBLISHED-TTL:PT1H
BEGIN:VTIMEZONE
TZID:Europe/Paris
BEGIN:DAYLIGHT
TZOFFSETFROM:+0100
TZOFFSETTO:+0200
TZNAME:CEST
DTSTART:20250330T010000
END:DAYLIGHT
BEGIN:STANDARD
TZOFFSETFROM:+0200
TZOFFSETTO:+0100
TZNAME:CET
DTSTART:20251026T010000
END:STANDARD
END:VTIMEZONE
BEGIN:VEVENT
DTSTART;TZID=Europe/Paris:20251117T090000
DTEND;TZID=Europe/Paris:20251117T120000
DTSTAMP:20260419T185915
CREATED:20251112T163352Z
LAST-MODIFIED:20251112T163352Z
UID:47364-1763370000-1763380800@hasparren.fr
SUMMARY:Forum emploi
DESCRIPTION:Lundi 17 novembre a la Maison des services Elgar se tient un forum France Travail pour l’emploi à partir de 9h00. Si vous souhaitez y participer\, n’oubliez pas votre CV. \n  \n \nPartager
URL:https://hasparren.fr/evenement/forum-emploi/
LOCATION:MSP ELGAR
ATTACH;FMTTYPE=image/jpeg:https://hasparren.fr/wp-content/uploads/2025/11/gabariis-agenda-forum-emploi.jpg
END:VEVENT
END:VCALENDAR