BEGIN:VCALENDAR
VERSION:2.0
PRODID:-//Hasparren, Hazparne, Pays Basque - ECPv6.1.3//NONSGML v1.0//EN
CALSCALE:GREGORIAN
METHOD:PUBLISH
X-WR-CALNAME:Hasparren, Hazparne, Pays Basque
X-ORIGINAL-URL:https://hasparren.fr
X-WR-CALDESC:Évènements pour Hasparren, Hazparne, Pays Basque
REFRESH-INTERVAL;VALUE=DURATION:PT1H
X-Robots-Tag:noindex
X-PUBLISHED-TTL:PT1H
BEGIN:VTIMEZONE
TZID:Europe/Paris
BEGIN:DAYLIGHT
TZOFFSETFROM:+0100
TZOFFSETTO:+0200
TZNAME:CEST
DTSTART:20240331T010000
END:DAYLIGHT
BEGIN:STANDARD
TZOFFSETFROM:+0200
TZOFFSETTO:+0100
TZNAME:CET
DTSTART:20241027T010000
END:STANDARD
END:VTIMEZONE
BEGIN:VEVENT
DTSTART;TZID=Europe/Paris:20240602T080000
DTEND;TZID=Europe/Paris:20240602T180000
DTSTAMP:20260421T153114
CREATED:20240423T132047Z
LAST-MODIFIED:20240423T132047Z
UID:41694-1717315200-1717351200@hasparren.fr
SUMMARY:HIRUZANGO - randonnée pédestre + VTT
DESCRIPTION:Dimanche 2 juin dès 8h00\, Ezkia Ikastola et Arberoa Ikastola organisent une randonnée pédestre + VTT sur le mont Ursuya. \n⇒3 parcours à pied : 3\, 9 et 15 Km\n⇒2 parcours VTT : 23 et 35 Km \nRestauration et buvette à la “salle pour tous” du quartier Celhay. \n  \n \nPartager
URL:https://hasparren.fr/evenement/hiruzango-randonnee-pedestre-vtt/
LOCATION:Mont Ursuya
ATTACH;FMTTYPE=image/jpeg:https://hasparren.fr/wp-content/uploads/2024/04/gabariis-agenda-hiruzango.jpg
END:VEVENT
END:VCALENDAR