BEGIN:VCALENDAR
VERSION:2.0
PRODID:-//Hasparren, Hazparne, Pays Basque - ECPv6.1.3//NONSGML v1.0//EN
CALSCALE:GREGORIAN
METHOD:PUBLISH
X-WR-CALNAME:Hasparren, Hazparne, Pays Basque
X-ORIGINAL-URL:https://hasparren.fr
X-WR-CALDESC:Évènements pour Hasparren, Hazparne, Pays Basque
REFRESH-INTERVAL;VALUE=DURATION:PT1H
X-Robots-Tag:noindex
X-PUBLISHED-TTL:PT1H
BEGIN:VTIMEZONE
TZID:Europe/Paris
BEGIN:DAYLIGHT
TZOFFSETFROM:+0100
TZOFFSETTO:+0200
TZNAME:CEST
DTSTART:20250330T010000
END:DAYLIGHT
BEGIN:STANDARD
TZOFFSETFROM:+0200
TZOFFSETTO:+0100
TZNAME:CET
DTSTART:20251026T010000
END:STANDARD
END:VTIMEZONE
BEGIN:VEVENT
DTSTART;TZID=Europe/Paris:20251220T110000
DTEND;TZID=Europe/Paris:20251220T120000
DTSTAMP:20260422T010239
CREATED:20251022T130712Z
LAST-MODIFIED:20251022T130712Z
UID:47078-1766228400-1766232000@hasparren.fr
SUMMARY:Idiak Kantuz
DESCRIPTION:Venez chantez avec la Pena Idiak pendant le marché du samedi 20 décembre à partir de 11h\, sur la place des Tilleuls. \n  \n  \n \nPartager
URL:https://hasparren.fr/evenement/idiak-kantuz/
LOCATION:Place des Tilleuls
ATTACH;FMTTYPE=image/jpeg:https://hasparren.fr/wp-content/uploads/2025/10/gabariis-agenda-Idiak-Kantuz.jpg
END:VEVENT
END:VCALENDAR