BEGIN:VCALENDAR
VERSION:2.0
PRODID:-//Hasparren, Hazparne, Pays Basque - ECPv6.1.3//NONSGML v1.0//EN
CALSCALE:GREGORIAN
METHOD:PUBLISH
X-WR-CALNAME:Hasparren, Hazparne, Pays Basque
X-ORIGINAL-URL:https://hasparren.fr
X-WR-CALDESC:Évènements pour Hasparren, Hazparne, Pays Basque
REFRESH-INTERVAL;VALUE=DURATION:PT1H
X-Robots-Tag:noindex
X-PUBLISHED-TTL:PT1H
BEGIN:VTIMEZONE
TZID:Europe/Paris
BEGIN:DAYLIGHT
TZOFFSETFROM:+0100
TZOFFSETTO:+0200
TZNAME:CEST
DTSTART:20240331T010000
END:DAYLIGHT
BEGIN:STANDARD
TZOFFSETFROM:+0200
TZOFFSETTO:+0100
TZNAME:CET
DTSTART:20241027T010000
END:STANDARD
END:VTIMEZONE
BEGIN:VEVENT
DTSTART;TZID=Europe/Paris:20240711T083000
DTEND;TZID=Europe/Paris:20240711T113000
DTSTAMP:20260421T220942
CREATED:20240610T103528Z
LAST-MODIFIED:20240708T102111Z
UID:42087-1720686600-1720697400@hasparren.fr
SUMMARY:Initiation vélos pour adultes et séniors
DESCRIPTION:Séance d’initiation au vélo pour adultes et séniors\, de 8h30 à 11h30. – Départ du stade Xapitalia. N’oubliez pas d’apporter votre vélo personnel .\nCette animation sera encadrée par les éducateurs sportifs de la commune.  \n  \nGratuit sur inscription au 06.29.22.76.37. \n  \n  \nPartager
URL:https://hasparren.fr/evenement/initiation-velos-pour-adultes-et-seniors/
LOCATION:Stade Xapitalia
ATTACH;FMTTYPE=image/jpeg:https://hasparren.fr/wp-content/uploads/2024/06/gabariis-agenda-initiation-velo.jpg
END:VEVENT
END:VCALENDAR