BEGIN:VCALENDAR
VERSION:2.0
PRODID:-//Hasparren, Hazparne, Pays Basque - ECPv6.1.3//NONSGML v1.0//EN
CALSCALE:GREGORIAN
METHOD:PUBLISH
X-WR-CALNAME:Hasparren, Hazparne, Pays Basque
X-ORIGINAL-URL:https://hasparren.fr
X-WR-CALDESC:Évènements pour Hasparren, Hazparne, Pays Basque
REFRESH-INTERVAL;VALUE=DURATION:PT1H
X-Robots-Tag:noindex
X-PUBLISHED-TTL:PT1H
BEGIN:VTIMEZONE
TZID:Europe/Paris
BEGIN:DAYLIGHT
TZOFFSETFROM:+0100
TZOFFSETTO:+0200
TZNAME:CEST
DTSTART:20250330T010000
END:DAYLIGHT
BEGIN:STANDARD
TZOFFSETFROM:+0200
TZOFFSETTO:+0100
TZNAME:CET
DTSTART:20251026T010000
END:STANDARD
END:VTIMEZONE
BEGIN:VEVENT
DTSTART;TZID=Europe/Paris:20250801T190000
DTEND;TZID=Europe/Paris:20250801T230000
DTSTAMP:20260422T033047
CREATED:20250610T071251Z
LAST-MODIFIED:20250724T070207Z
UID:45604-1754074800-1754089200@hasparren.fr
SUMMARY:La nuit des étoiles
DESCRIPTION:Animations et démonstrations sur la place des Tilleuls avec la Société d’Astronomie Populaire de la Côte Basque et l’association FabLabea. \nbuvette et restauration sur place. \nDes séances de planétarium sont disponibles sur inscription 05.59.29.60.22 (dans la limite des places disponibles)  \nHoraires et informations : \n\n⇒ 19h00 – 19h30 (en Euskara)\n⇒ 19h45 – 20h15\n⇒ 20h30 – 21h00\n⇒ 21h15 – 21h45\n⇒ 22h00 – 22h30 \nà partir de 19:00\n\nDes ateliers pédagogiques seront accessibles sur la place\, notamment des découvertes tactiles pour les malvoyants avec des maquettes en 3D.\nUn fragment de Lune sera également à découvrir et vous pourrez découvrir et toucher des échantillons de météorites lunaire !\nEt une exposition sur le Télescope Hubble à l’occasion de son 35e anniversaire. \nDe 19:00 à 21:15\n\nObservation à travers des jumelles spécifiques de la Lune et du Soleil ! \n19:00 à 22:00\n\nUne balade immersive le long de la rue Lissar représentera les distances et tailles des planètes. \n22:00 à 23:00\n\nConférence interactive «De l’eau d’ici à l’eau delà\, une enquête astronomique» \nÀ partir de 21:45\n\nPrélude animation musicale le chant des étoiles\, izaren kantua.\nEnsuite les télescopes seront braqués sur les étoiles pour une observation du ciel nocturne\, accompagnée de projections en direct. \n\nà partir de 19:00\n\nUne buvette et une petite restauration seront proposées par l’association FabLabea. \n  \n  \nPartager
URL:https://hasparren.fr/evenement/la-nuit-des-etoiles/
LOCATION:Place des Tilleuls
ATTACH;FMTTYPE=image/jpeg:https://hasparren.fr/wp-content/uploads/2025/06/Affiche-la-nuit-des-etoiles-1-scaled.jpg
END:VEVENT
END:VCALENDAR