BEGIN:VCALENDAR
VERSION:2.0
PRODID:-//Hasparren, Hazparne, Pays Basque - ECPv6.1.3//NONSGML v1.0//EN
CALSCALE:GREGORIAN
METHOD:PUBLISH
X-WR-CALNAME:Hasparren, Hazparne, Pays Basque
X-ORIGINAL-URL:https://hasparren.fr
X-WR-CALDESC:Évènements pour Hasparren, Hazparne, Pays Basque
REFRESH-INTERVAL;VALUE=DURATION:PT1H
X-Robots-Tag:noindex
X-PUBLISHED-TTL:PT1H
BEGIN:VTIMEZONE
TZID:Europe/Paris
BEGIN:DAYLIGHT
TZOFFSETFROM:+0100
TZOFFSETTO:+0200
TZNAME:CEST
DTSTART:20250330T010000
END:DAYLIGHT
BEGIN:STANDARD
TZOFFSETFROM:+0200
TZOFFSETTO:+0100
TZNAME:CET
DTSTART:20251026T010000
END:STANDARD
END:VTIMEZONE
BEGIN:VEVENT
DTSTART;VALUE=DATE:20250810
DTEND;VALUE=DATE:20250811
DTSTAMP:20260421T134805
CREATED:20241219T150447Z
LAST-MODIFIED:20250708T094933Z
UID:43829-1754784000-1754870399@hasparren.fr
SUMMARY:LEHENGO HAZPARNE
DESCRIPTION:LEHENGO HAZPARNE : Reconstitution d’une fête populaire basque en 1900 \nNoce Basque\, chants\, danses\, pelote\, force basque\, musique et bandas\, concert…\nplus d’infos : https://www.lehengo-hazparne.com/ \n \nDe 08h00 à 11h00 : Casse-croûte traditionnel – Dans les rues\nLa journée commence de la plus savoureuse des façons avec le casse-croûte basque : Arroltze ta Xingar\, œufs et ventrèche grillée. Une belle manière de démarrer cette fête populaire tout en se régalant dans les rues d’Hasparren. \nDe 09h00 à 16h00 : Comice Agricole – Place Harana\nUn incontournable du Lehengo Hazparne : le Comice Agricole sur la Place Harana. Comme autrefois\, les éleveurs présentent fièrement leurs bêtes\, les enfants découvrent la vie à la ferme et l’ambiance est conviviale. Ce rendez-vous est une véritable immersion dans l’univers rural basque. \nDe 09h00 à 17h00 : Exposition de véhicules anciens – Parking Harana\nLes amateurs de belles mécaniques seront comblés par l’exposition de véhicules anciens organisée avec les associations Soupapes et Pistons et Auto Moto Rétro. Raretés\, voitures d’époque\, le patrimoine roulant sera à l’honneur\, avec également un défilé dans les rues. \nDe 09h00 à 17h00 : Marché de produits locaux et métiers d’art – Dans les rues\nLe centre-ville se transforme en un grand marché basque à ciel ouvert. Producteurs locaux et artisans d’art dévoilent leurs trésors : fromages\, charcuteries\, confitures\, céramiques\, tissages basques\, apiculture… une excellente occasion de ramener un souvenir ou de déguster des produits du terroir. \nDe 10h00 à 12h00 : Animations pour enfants – Parking de la poste\nLe Lehengo Hazparne\, c’est aussi une fête pour les enfants ! L’association Gaia initie petits et grands aux jeux de la Force Basque et aux anciens métiers. Une initiation à la txalaparta\, instrument traditionnel\, est également proposée pour éveiller les jeunes aux sonorités locales. \n10h00 : Défilé des gaiteros et géants – Dans les rues\nLes gaiteros\, musiciens traditionnels basques\, accompagnés des géants\, personnages emblématiques de la culture populaire\, déambuleront dans les rues d’Hasparren. Un moment festif et haut en couleurs qui émerveille toujours les enfants… et leurs parents ! \nDe 10h00 à 12h00 : Promenades en calèche – Place Harana\nAvant l’ère des voitures\, les calèches étaient reines. À Hasparren\, on n’oublie pas : une promenade en calèches évoquera cette époque révolue\, en lien avec l’exposition de véhicules anciens. \n10h30 : Grande partie de Rebot – Fronton municipal\nPlace à la Pelote Basque\, et pas n’importe laquelle : la majestueuse partie de Rebot se joue au Fronton municipal. Spectaculaire\, technique\, elle incarne le raffinement de ce sport typiquement basque. \n11h00 : Défilé de la Batterie Fanfare et Danborrada – Dans les rues\nLes rues s’animent au son des percussions avec la Batterie Fanfare Haitzmendi et la fameuse Danborrada d’Hasparren (Hazparneko Danborrada)\, pour un défilé hautement rythmé.\nPartager
URL:https://hasparren.fr/evenement/lehengo-hazparne/
LOCATION:Centre ville\, Hasparren
ATTACH;FMTTYPE=image/jpeg:https://hasparren.fr/wp-content/uploads/2024/12/285216429_5147494935347292_6301069251304905463_n.jpg
END:VEVENT
END:VCALENDAR