BEGIN:VCALENDAR
VERSION:2.0
PRODID:-//Hasparren, Hazparne, Pays Basque - ECPv6.1.3//NONSGML v1.0//EN
CALSCALE:GREGORIAN
METHOD:PUBLISH
X-WR-CALNAME:Hasparren, Hazparne, Pays Basque
X-ORIGINAL-URL:https://hasparren.fr
X-WR-CALDESC:Évènements pour Hasparren, Hazparne, Pays Basque
REFRESH-INTERVAL;VALUE=DURATION:PT1H
X-Robots-Tag:noindex
X-PUBLISHED-TTL:PT1H
BEGIN:VTIMEZONE
TZID:Europe/Paris
BEGIN:DAYLIGHT
TZOFFSETFROM:+0100
TZOFFSETTO:+0200
TZNAME:CEST
DTSTART:20240331T010000
END:DAYLIGHT
BEGIN:STANDARD
TZOFFSETFROM:+0200
TZOFFSETTO:+0100
TZNAME:CET
DTSTART:20241027T010000
END:STANDARD
END:VTIMEZONE
BEGIN:VEVENT
DTSTART;TZID=Europe/Paris:20240820T193000
DTEND;TZID=Europe/Paris:20240820T220000
DTSTAMP:20260421T134630
CREATED:20240619T154107Z
LAST-MODIFIED:20240723T081035Z
UID:42250-1724182200-1724191200@hasparren.fr
SUMMARY:Mardis de l’été
DESCRIPTION: \n \n19:30-22:00 Place de l’église\n \nAnimation musicale avec Juan Valiente Color Latino. \nBuvette et restauration par Euskal Herriko Semeak.\n \n\nPartager
URL:https://hasparren.fr/evenement/mardis-de-lete-9/
LOCATION:Place des Tilleuls
ATTACH;FMTTYPE=image/png:https://hasparren.fr/wp-content/uploads/2024/06/mardi-de-ete-cartouche-site.png
END:VEVENT
END:VCALENDAR