BEGIN:VCALENDAR
VERSION:2.0
PRODID:-//Hasparren, Hazparne, Pays Basque - ECPv6.1.3//NONSGML v1.0//EN
CALSCALE:GREGORIAN
METHOD:PUBLISH
X-WR-CALNAME:Hasparren, Hazparne, Pays Basque
X-ORIGINAL-URL:https://hasparren.fr
X-WR-CALDESC:Évènements pour Hasparren, Hazparne, Pays Basque
REFRESH-INTERVAL;VALUE=DURATION:PT1H
X-Robots-Tag:noindex
X-PUBLISHED-TTL:PT1H
BEGIN:VTIMEZONE
TZID:Europe/Paris
BEGIN:DAYLIGHT
TZOFFSETFROM:+0100
TZOFFSETTO:+0200
TZNAME:CEST
DTSTART:20240331T010000
END:DAYLIGHT
BEGIN:STANDARD
TZOFFSETFROM:+0200
TZOFFSETTO:+0100
TZNAME:CET
DTSTART:20241027T010000
END:STANDARD
END:VTIMEZONE
BEGIN:VEVENT
DTSTART;TZID=Europe/Paris:20240601T083000
DTEND;TZID=Europe/Paris:20240601T123000
DTSTAMP:20260421T153158
CREATED:20240521T141316Z
LAST-MODIFIED:20240521T141316Z
UID:41807-1717230600-1717245000@hasparren.fr
SUMMARY:Matinée ramassage des déchets et découverte des milieux aquatiques
DESCRIPTION:Cette année encore\, le syndicat mixte du bas Adour maritime\, en partenariat avec Jungle canoë\, l’association des amis de la Joyeuse et de l’Aran\, la MIFEN et EGAN AQUITAINE\, organise une matinée de sensibilisation à la protection des milieux aquatiques. \n⇒Cette animation se déroulera la matinée du samedi 1er juin 2024. \n  \nObjectif : mettre en lumière le travail réalisé par le syndicat\, les communes\, les associations et la MIFEN pour préserver le bon état écologique de nos rivières et découvrir ou redécouvrir les richesses de notre territoire. \nContenu de l’animation : réaliser un parcours en canoë afin de ramasser les déchets et découvrir les milieux aquatiques. 2 itinéraires seront proposés sur la rivière « la Joyeuse ». Randonnée d’environ 1h30 encadrée. \nDéroulement de l’animation : \n8h30 : accueil /café au mur à gauche de la commune de Bonloc \n9h00 : départ sur un des 2 itinéraires de randonnées en canoë avec 1 agent du syndicat\, 1 intervenant de « Jungle canoë » et 1 agent de la MIFEN \n11h30 : retour à Bonloc – temps d’échange sur l’expérience vécue \n12h : apéritif \n \nPartager
URL:https://hasparren.fr/evenement/matinee-ramassage-des-dechets-et-decouverte-des-milieux-aquatiques/
LOCATION:Bonlonc
ATTACH;FMTTYPE=image/jpeg:https://hasparren.fr/wp-content/uploads/2024/05/gabariis-agenda-dechet-marin.jpg
END:VEVENT
END:VCALENDAR