BEGIN:VCALENDAR
VERSION:2.0
PRODID:-//Hasparren, Hazparne, Pays Basque - ECPv6.1.3//NONSGML v1.0//EN
CALSCALE:GREGORIAN
METHOD:PUBLISH
X-WR-CALNAME:Hasparren, Hazparne, Pays Basque
X-ORIGINAL-URL:https://hasparren.fr
X-WR-CALDESC:Évènements pour Hasparren, Hazparne, Pays Basque
REFRESH-INTERVAL;VALUE=DURATION:PT1H
X-Robots-Tag:noindex
X-PUBLISHED-TTL:PT1H
BEGIN:VTIMEZONE
TZID:Europe/Paris
BEGIN:DAYLIGHT
TZOFFSETFROM:+0100
TZOFFSETTO:+0200
TZNAME:CEST
DTSTART:20260329T010000
END:DAYLIGHT
BEGIN:STANDARD
TZOFFSETFROM:+0200
TZOFFSETTO:+0100
TZNAME:CET
DTSTART:20261025T010000
END:STANDARD
END:VTIMEZONE
BEGIN:VEVENT
DTSTART;TZID=Europe/Paris:20260131T090000
DTEND;TZID=Europe/Paris:20260131T123000
DTSTAMP:20260422T194834
CREATED:20260112T081637Z
LAST-MODIFIED:20260119T090852Z
UID:48212-1769850000-1769862600@hasparren.fr
SUMMARY:Portes ouvertes Ezkia Ikastola
DESCRIPTION:Samedi 31 janvier\, journée portes ouvertes à Ezkia Ikastola\, Hasparren. \nL’équipe pédagogique ainsi que des parents vous accueilleront pour vous faire visiter les locaux et échanger autour du projet pédagogique\, de l’immersion en langue basque et de la vie associative de l’ikastola. \n⇒Possibilité de visite sur rendez-vous\n ezkia.zuzendaritza@gmail.com \n  \n \n  \nPartager
URL:https://hasparren.fr/evenement/portes-ouvertes-ezkia-ikastola-2/
LOCATION:Ezkia Ikastola Hasparren
ATTACH;FMTTYPE=image/jpeg:https://hasparren.fr/wp-content/uploads/2026/01/afitxa-horizontala-ate-idekiak-2026-scaled.jpg
END:VEVENT
END:VCALENDAR