BEGIN:VCALENDAR
VERSION:2.0
PRODID:-//Hasparren, Hazparne, Pays Basque - ECPv6.1.3//NONSGML v1.0//EN
CALSCALE:GREGORIAN
METHOD:PUBLISH
X-WR-CALNAME:Hasparren, Hazparne, Pays Basque
X-ORIGINAL-URL:https://hasparren.fr
X-WR-CALDESC:Évènements pour Hasparren, Hazparne, Pays Basque
REFRESH-INTERVAL;VALUE=DURATION:PT1H
X-Robots-Tag:noindex
X-PUBLISHED-TTL:PT1H
BEGIN:VTIMEZONE
TZID:Europe/Paris
BEGIN:DAYLIGHT
TZOFFSETFROM:+0100
TZOFFSETTO:+0200
TZNAME:CEST
DTSTART:20240331T010000
END:DAYLIGHT
BEGIN:STANDARD
TZOFFSETFROM:+0200
TZOFFSETTO:+0100
TZNAME:CET
DTSTART:20241027T010000
END:STANDARD
END:VTIMEZONE
BEGIN:VEVENT
DTSTART;TZID=Europe/Paris:20240525T090000
DTEND;TZID=Europe/Paris:20240526T180000
DTSTAMP:20260421T135533
CREATED:20240419T121020Z
LAST-MODIFIED:20240419T121020Z
UID:41681-1716627600-1716746400@hasparren.fr
SUMMARY:rencontre aéromodélisme remorquage planeurs
DESCRIPTION:Début des vols samedi 14h/18h et dimanche 10h/18h \nTerrain les pétroles quartier Paskoenia \nPartager
URL:https://hasparren.fr/evenement/rencontre-aeromodelisme-remorquage-planeurs/
LOCATION:Quartier Paxkoenia
CATEGORIES:Animations
END:VEVENT
END:VCALENDAR