BEGIN:VCALENDAR
VERSION:2.0
PRODID:-//Hasparren, Hazparne, Pays Basque - ECPv6.1.3//NONSGML v1.0//EN
CALSCALE:GREGORIAN
METHOD:PUBLISH
X-WR-CALNAME:Hasparren, Hazparne, Pays Basque
X-ORIGINAL-URL:https://hasparren.fr
X-WR-CALDESC:Évènements pour Hasparren, Hazparne, Pays Basque
REFRESH-INTERVAL;VALUE=DURATION:PT1H
X-Robots-Tag:noindex
X-PUBLISHED-TTL:PT1H
BEGIN:VTIMEZONE
TZID:Europe/Paris
BEGIN:DAYLIGHT
TZOFFSETFROM:+0100
TZOFFSETTO:+0200
TZNAME:CEST
DTSTART:20250330T010000
END:DAYLIGHT
BEGIN:STANDARD
TZOFFSETFROM:+0200
TZOFFSETTO:+0100
TZNAME:CET
DTSTART:20251026T010000
END:STANDARD
END:VTIMEZONE
BEGIN:VEVENT
DTSTART;TZID=Europe/Paris:20250803T193000
DTEND;TZID=Europe/Paris:20250803T233000
DTSTAMP:20260422T031309
CREATED:20241219T150111Z
LAST-MODIFIED:20250602T150833Z
UID:43822-1754249400-1754263800@hasparren.fr
SUMMARY:Soirée Traditions basques
DESCRIPTION:Soirée Traditions basques par les Jeunes Basques.\nSpectacle familiale\, en plein air (fronton derrière le cinéma Haritz Barne).\nGratuit \nBuvette et taloa dès 19:30 \n \nPartager
URL:https://hasparren.fr/evenement/soiree-traditions-basques-2/
LOCATION:cinéma Haritz Barne
ATTACH;FMTTYPE=image/webp:https://hasparren.fr/wp-content/uploads/2024/12/WEB25_Lete-du-PatronageAOUT_360x205.webp
END:VEVENT
END:VCALENDAR