BEGIN:VCALENDAR
VERSION:2.0
PRODID:-//Hasparren, Hazparne, Pays Basque - ECPv6.1.3//NONSGML v1.0//EN
CALSCALE:GREGORIAN
METHOD:PUBLISH
X-WR-CALNAME:Hasparren, Hazparne, Pays Basque
X-ORIGINAL-URL:https://hasparren.fr
X-WR-CALDESC:Évènements pour Hasparren, Hazparne, Pays Basque
REFRESH-INTERVAL;VALUE=DURATION:PT1H
X-Robots-Tag:noindex
X-PUBLISHED-TTL:PT1H
BEGIN:VTIMEZONE
TZID:Europe/Paris
BEGIN:DAYLIGHT
TZOFFSETFROM:+0100
TZOFFSETTO:+0200
TZNAME:CEST
DTSTART:20250330T010000
END:DAYLIGHT
BEGIN:STANDARD
TZOFFSETFROM:+0200
TZOFFSETTO:+0100
TZNAME:CET
DTSTART:20251026T010000
END:STANDARD
END:VTIMEZONE
BEGIN:VEVENT
DTSTART;TZID=Europe/Paris:20251127T203000
DTEND;TZID=Europe/Paris:20251127T203000
DTSTAMP:20260425T122133
CREATED:20251106T092756Z
LAST-MODIFIED:20251106T092925Z
UID:47291-1764275400-1764275400@hasparren.fr
SUMMARY:Spectacle : EGUNEKO ARRANTZA
DESCRIPTION:Spectacle : EGUNEKO ARRANTZA \nJEUDI 27 NOVEMBRE 2025 – 20h30 \nCinéma Haritz Barne – Entrée 10 € \nLecture musicale en euskara d’un texte de Eric Fottorino traduit par Itxaro borda : La pêche du jour (courte fable\, dans laquelle l’auteur aborde de manière radicale et bouleversante le thème de la migration) \nCréation du club de lecture HAIAK avec Janine Urruty\, Txomin Heguy et le musicien Pantxix Bidart\nOrganisé par l’association Bidekoekin / Solidarité Migrants.\nAvec le soutien de la Médiathèque et de la Ville de Hasparren \n\n \n2025ko azaroaren 27an\, 20:30tan. \nHazparnen\, Haritz Barne zinegelan – Sartzea: 10€. \nEGUNEKO ARRANTZA testuaren irakurketa musikatua eta kantatua. \nEkoizle: HAIK\, Hazparne Aldeko Irakuketa kluba. \nIrakurleak: Janine Urruty-Txomin Heguy- Musikari-kantari: Pantxix Bidart. \nAntolatzaile: Bidekoekin/ Solidarité Migrants elkartea. \nMediateka eta Herriko Etxearen laguntzarekin \n\nPartager
URL:https://hasparren.fr/evenement/spectacle-eguneko-arrantza/
LOCATION:cinéma Haritz Barne
ATTACH;FMTTYPE=image/jpeg:https://hasparren.fr/wp-content/uploads/2025/11/Eguneko-arrantza-afixa-Hazparne.jpg
END:VEVENT
END:VCALENDAR