BEGIN:VCALENDAR
VERSION:2.0
PRODID:-//Hasparren, Hazparne, Pays Basque - ECPv6.1.3//NONSGML v1.0//EN
CALSCALE:GREGORIAN
METHOD:PUBLISH
X-WR-CALNAME:Hasparren, Hazparne, Pays Basque
X-ORIGINAL-URL:https://hasparren.fr
X-WR-CALDESC:Évènements pour Hasparren, Hazparne, Pays Basque
REFRESH-INTERVAL;VALUE=DURATION:PT1H
X-Robots-Tag:noindex
X-PUBLISHED-TTL:PT1H
BEGIN:VTIMEZONE
TZID:Europe/Paris
BEGIN:DAYLIGHT
TZOFFSETFROM:+0100
TZOFFSETTO:+0200
TZNAME:CEST
DTSTART:20240331T010000
END:DAYLIGHT
BEGIN:STANDARD
TZOFFSETFROM:+0200
TZOFFSETTO:+0100
TZNAME:CET
DTSTART:20241027T010000
END:STANDARD
END:VTIMEZONE
BEGIN:VEVENT
DTSTART;TZID=Europe/Paris:20240512T160000
DTEND;TZID=Europe/Paris:20240512T210000
DTSTAMP:20260422T121413
CREATED:20240417T133653Z
LAST-MODIFIED:20240417T133653Z
UID:41634-1715529600-1715547600@hasparren.fr
SUMMARY:Tournoi de quilles
DESCRIPTION:De 16h à 21h – tournoi de quilles au parc Eihartzea. \nPartager
URL:https://hasparren.fr/evenement/tournoi-de-quilles/
LOCATION:Eihartzea
END:VEVENT
END:VCALENDAR