BEGIN:VCALENDAR
VERSION:2.0
PRODID:-//Hasparren, Hazparne, Pays Basque - ECPv6.1.3//NONSGML v1.0//EN
CALSCALE:GREGORIAN
METHOD:PUBLISH
X-WR-CALNAME:Hasparren, Hazparne, Pays Basque
X-ORIGINAL-URL:https://hasparren.fr
X-WR-CALDESC:Évènements pour Hasparren, Hazparne, Pays Basque
REFRESH-INTERVAL;VALUE=DURATION:PT1H
X-Robots-Tag:noindex
X-PUBLISHED-TTL:PT1H
BEGIN:VTIMEZONE
TZID:Europe/Paris
BEGIN:DAYLIGHT
TZOFFSETFROM:+0100
TZOFFSETTO:+0200
TZNAME:CEST
DTSTART:20250330T010000
END:DAYLIGHT
BEGIN:STANDARD
TZOFFSETFROM:+0200
TZOFFSETTO:+0100
TZNAME:CET
DTSTART:20251026T010000
END:STANDARD
END:VTIMEZONE
BEGIN:VEVENT
DTSTART;TZID=Europe/Paris:20250918T150000
DTEND;TZID=Europe/Paris:20250918T160000
DTSTAMP:20260421T153131
CREATED:20250901T080927Z
LAST-MODIFIED:20250901T080927Z
UID:46701-1758207600-1758211200@hasparren.fr
SUMMARY:Visite guidée de la chapelle du Sacré-Coeur
DESCRIPTION:Visite guidée de la chapelle du Sacré-Coeur\, classée monument historique avec ses peintures\, mosaïques\, vitraux\, décor intérieur de style Art déco.  \nTous les mardis à 10:00 \nTous les jeudis à 15h00 \n5€/adulte\, gratuit jusqu’à 14 ans.  \nRéservation Office de Tourisme 05.59.29.62.02  \n⇒Vers les Réservations  \nPartager
URL:https://hasparren.fr/evenement/visite-guidee-de-la-chapelle-du-sacre-coeur-63/
LOCATION:Chapelle Sacré Coeur
ATTACH;FMTTYPE=image/jpeg:https://hasparren.fr/wp-content/uploads/2025/09/gabariis-agenda-visite-chapelle-sept-oct-25.jpg
END:VEVENT
END:VCALENDAR