BEGIN:VCALENDAR
VERSION:2.0
PRODID:-//Hasparren, Hazparne, Pays Basque - ECPv6.1.3//NONSGML v1.0//EN
CALSCALE:GREGORIAN
METHOD:PUBLISH
X-WR-CALNAME:Hasparren, Hazparne, Pays Basque
X-ORIGINAL-URL:https://hasparren.fr
X-WR-CALDESC:Évènements pour Hasparren, Hazparne, Pays Basque
REFRESH-INTERVAL;VALUE=DURATION:PT1H
X-Robots-Tag:noindex
X-PUBLISHED-TTL:PT1H
BEGIN:VTIMEZONE
TZID:Europe/Paris
BEGIN:DAYLIGHT
TZOFFSETFROM:+0100
TZOFFSETTO:+0200
TZNAME:CEST
DTSTART:20240331T010000
END:DAYLIGHT
BEGIN:STANDARD
TZOFFSETFROM:+0200
TZOFFSETTO:+0100
TZNAME:CET
DTSTART:20241027T010000
END:STANDARD
END:VTIMEZONE
BEGIN:VEVENT
DTSTART;TZID=Europe/Paris:20240826T150000
DTEND;TZID=Europe/Paris:20240826T160000
DTSTAMP:20260419T224707
CREATED:20240620T140957Z
LAST-MODIFIED:20240620T140957Z
UID:42323-1724684400-1724688000@hasparren.fr
SUMMARY:Visite guidée de la chapelle du Sacré-Cœur
DESCRIPTION:Visite guidée de la chapelle du Sacré-Coeur\, classée monument historique avec ses peintures\, mosaïques\, vitraux\, décor intérieur de style Art déco.  \n Lundi : 15:00  \n5€/adulte\, gratuit jusqu’à 14 ans.  \nRéservation Office de Tourisme 05.59.29.62.02  \n⇒Vers les Réservations  \nPartager
URL:https://hasparren.fr/evenement/visite-guidee-de-la-chapelle-du-sacre-coeur-9/
ATTACH;FMTTYPE=image/png:https://hasparren.fr/wp-content/uploads/2024/06/flyer-visite-chapelle.png
END:VEVENT
END:VCALENDAR