BEGIN:VCALENDAR
VERSION:2.0
PRODID:-//Hasparren, Hazparne, Pays Basque - ECPv6.1.3//NONSGML v1.0//EN
CALSCALE:GREGORIAN
METHOD:PUBLISH
X-WR-CALNAME:Hasparren, Hazparne, Pays Basque
X-ORIGINAL-URL:https://hasparren.fr
X-WR-CALDESC:Évènements pour Hasparren, Hazparne, Pays Basque
REFRESH-INTERVAL;VALUE=DURATION:PT1H
X-Robots-Tag:noindex
X-PUBLISHED-TTL:PT1H
BEGIN:VTIMEZONE
TZID:Europe/Paris
BEGIN:DAYLIGHT
TZOFFSETFROM:+0100
TZOFFSETTO:+0200
TZNAME:CEST
DTSTART:20250330T010000
END:DAYLIGHT
BEGIN:STANDARD
TZOFFSETFROM:+0200
TZOFFSETTO:+0100
TZNAME:CET
DTSTART:20251026T010000
END:STANDARD
END:VTIMEZONE
BEGIN:VEVENT
DTSTART;TZID=Europe/Paris:20250920T090000
DTEND;TZID=Europe/Paris:20250920T113000
DTSTAMP:20260421T165416
CREATED:20250915T095742Z
LAST-MODIFIED:20250915T095751Z
UID:45192-1758358800-1758367800@hasparren.fr
SUMMARY:Visite pôle Canopia
DESCRIPTION:Au programme :  \n\nPrésentation du Syndicat et de sa mission de service public de traitement des déchets ménagers \nDécouverte de l’Unité de Valorisation Energétique et Organique (UVEOR) des ordures ménagères\nDécouverte du nouveau centre de tri des papiers et emballages ménagers\n\nChangez de regard sur vos déchets ! \nVisite gratuite. Ouverte à tous (à partir de 8 ans conseillés). Inscription obligatoire. \n  \nPour s’inscrire : Visite Canopia \nPartager
URL:https://hasparren.fr/evenement/visite-pole-canopia/
LOCATION:Pôle Canopia (Bayonne)
ATTACH;FMTTYPE=image/jpeg:https://hasparren.fr/wp-content/uploads/2025/05/gabariis-agenda-visite-Canopia.jpg
END:VEVENT
END:VCALENDAR